{ "currentVersion": 10.81, "serviceDescription": "
More information about this map can be found on:<\/span><\/p> http://www.arcgis.com/home/item.html?id=2ce4fe7d77024e719f8a04d2155b3fd2<\/span><\/p><\/div><\/div><\/div>",
"name": "Elevation/New_Zealand_Elevation",
"description": " More information about this map can be found on:<\/span><\/p> http://www.arcgis.com/home/item.html?id=2ce4fe7d77024e719f8a04d2155b3fd2<\/span><\/p><\/div><\/div><\/div>",
"extent": {
"xmin": -1497310.4689000002,
"ymin": 3678220.3271000003,
"xmax": 4752689.531099999,
"ymax": 7203220.3271,
"spatialReference": {
"wkid": 2193,
"latestWkid": 2193,
"vcsWkid": 7839,
"latestVcsWkid": 7839
}
},
"initialExtent": {
"xmin": -1497310.4689000002,
"ymin": 3678220.3271000003,
"xmax": 4752689.531099999,
"ymax": 7203220.3271,
"spatialReference": {
"wkid": 2193,
"latestWkid": 2193,
"vcsWkid": 7839,
"latestVcsWkid": 7839
}
},
"fullExtent": {
"xmin": -1497310.4689000002,
"ymin": 3678220.3271000003,
"xmax": 4752689.531099999,
"ymax": 7203220.3271,
"spatialReference": {
"wkid": 2193,
"latestWkid": 2193,
"vcsWkid": 7839,
"latestVcsWkid": 7839
}
},
"heightModelInfo": {
"heightModel": "gravity_related_height",
"vertCRS": "NZVD2016_height",
"heightUnit": "meter"
},
"pixelSizeX": 1,
"pixelSizeY": 1,
"datasetFormat": "AMD",
"uncompressedSize": 88125000000000,
"blockWidth": 2048,
"blockHeight": 256,
"compressionType": "None",
"bandNames": [
"Band_1"
],
"allowCopy": false,
"allowAnalysis": false,
"bandCount": 1,
"pixelType": "F32",
"minPixelSize": 0,
"maxPixelSize": 0,
"copyrightText": "Eagle Technology, Land Information New Zealand",
"serviceDataType": "esriImageServiceDataTypeElevation",
"serviceSourceType": "esriImageServiceSourceTypeMosaicDataset",
"minValues": [
-100
],
"maxValues": [
3900
],
"meanValues": [
0
],
"stdvValues": [
-1
],
"objectIdField": "OBJECTID",
"fields": [
{
"name": "OBJECTID",
"type": "esriFieldTypeOID",
"alias": "OBJECTID",
"domain": null
},
{
"name": "Shape",
"type": "esriFieldTypeGeometry",
"alias": "Shape",
"domain": null
},
{
"name": "Name",
"type": "esriFieldTypeString",
"alias": "Name",
"domain": null,
"length": 200
},
{
"name": "Category",
"type": "esriFieldTypeInteger",
"alias": "Category",
"domain": {
"type": "codedValue",
"name": "MosaicCatalogItemCategoryDomain",
"description": "Catalog item categories.",
"codedValues": [
{
"name": "Unknown",
"code": 0
},
{
"name": "Primary",
"code": 1
},
{
"name": "Overview",
"code": 2
},
{
"name": "Unprocessed Overview",
"code": 3
},
{
"name": "Partial Overview",
"code": 4
},
{
"name": "Inactive",
"code": 5
},
{
"name": "Uploaded",
"code": 253
},
{
"name": "Incomplete",
"code": 254
},
{
"name": "Custom",
"code": 255
}
],
"mergePolicy": "esriMPTDefaultValue",
"splitPolicy": "esriSPTDefaultValue"
}
}
],
"capabilities": "Image,Tilemap",
"defaultMosaicMethod": "Northwest",
"allowedMosaicMethods": "NorthWest,None",
"sortField": "",
"sortValue": null,
"sortAscending": true,
"mosaicOperator": "First",
"maxDownloadSizeLimit": 2048,
"defaultCompressionQuality": 100000,
"defaultResamplingMethod": "Bilinear",
"maxImageHeight": 4100,
"maxImageWidth": 15000,
"maxRecordCount": 1000,
"maxDownloadImageCount": 20,
"maxMosaicImageCount": 500,
"singleFusedMapCache": true,
"tileInfo": {
"rows": 256,
"cols": 256,
"dpi": 96,
"format": "LERC",
"compressionQuality": 0,
"lercError": 0.1,
"origin": {
"x": -4020900,
"y": 19998100
},
"spatialReference": {
"wkid": 2193,
"latestWkid": 2193
},
"lods": [
{
"level": 0,
"resolution": 156543.03392799935,
"scale": 5.91657527591552E8
},
{
"level": 1,
"resolution": 78271.51696399967,
"scale": 2.95828763795776E8
},
{
"level": 2,
"resolution": 39135.75848199984,
"scale": 1.47914381897888E8
},
{
"level": 3,
"resolution": 19567.87924099992,
"scale": 7.3957190948944E7
},
{
"level": 4,
"resolution": 9783.93962049996,
"scale": 3.6978595474472E7
},
{
"level": 5,
"resolution": 4891.96981024998,
"scale": 1.8489297737236E7
},
{
"level": 6,
"resolution": 2445.98490512499,
"scale": 9244648.868618
},
{
"level": 7,
"resolution": 1222.992452562495,
"scale": 4622324.434309
},
{
"level": 8,
"resolution": 611.4962262813797,
"scale": 2311162.217155
},
{
"level": 9,
"resolution": 305.74811314055756,
"scale": 1155581.108577
},
{
"level": 10,
"resolution": 152.87405657041106,
"scale": 577790.554289
},
{
"level": 11,
"resolution": 76.43702828507324,
"scale": 288895.277144
},
{
"level": 12,
"resolution": 38.21851414253662,
"scale": 144447.638572
},
{
"level": 13,
"resolution": 19.10925707126831,
"scale": 72223.819286
},
{
"level": 14,
"resolution": 9.554628535634155,
"scale": 36111.909643
},
{
"level": 15,
"resolution": 4.77731426794937,
"scale": 18055.954822
},
{
"level": 16,
"resolution": 2.388657133974685,
"scale": 9027.977411
},
{
"level": 17,
"resolution": 1.1943285668550503,
"scale": 4513.988705
},
{
"level": 18,
"resolution": 0.5971642835598172,
"scale": 2256.994353
},
{
"level": 19,
"resolution": 0.29858214164761665,
"scale": 1128.497176
},
{
"level": 20,
"resolution": 0.14929107082380833,
"scale": 564.248588
},
{
"level": 21,
"resolution": 0.07464553541190416,
"scale": 282.124294
},
{
"level": 22,
"resolution": 0.03732276770595208,
"scale": 141.062147
},
{
"level": 23,
"resolution": 0.01866138385297604,
"scale": 70.5310735
}
]
},
"cacheType": "Elevation",
"allowRasterFunction": false,
"rasterFunctionInfos": [
{
"name": "None",
"description": "",
"help": ""
}
],
"rasterTypeInfos": [
{
"name": "Raster Dataset",
"description": "Supports all ArcGIS Raster Datasets",
"help": ""
}
],
"mensurationCapabilities": "",
"hasHistograms": false,
"hasColormap": false,
"hasRasterAttributeTable": false,
"minScale": 0,
"maxScale": 0,
"exportTilesAllowed": false,
"hasMultidimensions": false,
"supportsStatistics": true,
"supportsAdvancedQueries": true,
"editFieldsInfo": null,
"ownershipBasedAccessControlForRasters": null,
"allowComputeTiePoints": false,
"useStandardizedQueries": true,
"advancedQueryCapabilities": {
"useStandardizedQueries": true,
"supportsStatistics": true,
"supportsOrderBy": true,
"supportsDistinct": true,
"supportsPagination": true
},
"spatialReference": {
"wkid": 2193,
"latestWkid": 2193,
"vcsWkid": 7839,
"latestVcsWkid": 7839
}
}