View In:
ArcGIS JavaScript
ArcGIS Online Map Viewer
ArcGIS Earth
ArcMap
ArcGIS Pro
View Footprint In:
ArcGIS Online Map Viewer
Service Description:
Map Name: New Zealand Hillshade
Legend
All Layers and Tables
Layers:
Description:
Copyright Text: Eagle Technology, Land Information New Zealand
Spatial Reference:
2193
(2193)
Single Fused Map Cache: true
Tile Info:
- Height: 256
- Width: 256
- DPI: 96
-
Levels of Detail: 24
-
Level ID: 0
[ Start Tile, End Tile ]
- Resolution: 156543.03392799935
- Scale: 5.91657527591552E8
-
Level ID: 1
[ Start Tile, End Tile ]
- Resolution: 78271.51696399967
- Scale: 2.95828763795776E8
-
Level ID: 2
[ Start Tile, End Tile ]
- Resolution: 39135.75848199984
- Scale: 1.47914381897888E8
-
Level ID: 3
[ Start Tile, End Tile ]
- Resolution: 19567.87924099992
- Scale: 7.3957190948944E7
-
Level ID: 4
[ Start Tile, End Tile ]
- Resolution: 9783.93962049996
- Scale: 3.6978595474472E7
-
Level ID: 5
[ Start Tile, End Tile ]
- Resolution: 4891.96981024998
- Scale: 1.8489297737236E7
- Format: JPEG
- Compression Quality: 90.0
- Origin: X: -4020900.0
Y: 1.99981E7
- Spatial Reference: 2193
(2193)
Initial Extent:
XMin: 95606.22872413392
YMin: 4659939.955348249
XMax: 3094383.7224073717
YMax: 6313425.751212741
Spatial Reference: 2193
(2193)
Full Extent:
XMin: -1497310.4689000002
YMin: 3678220.3271
XMax: 4749968.6755
YMax: 7192314.8459
Spatial Reference: 2193
(2193)
Units: esriMeters
Supported Image Format Types: PNG32,PNG24,PNG,JPG,DIB,TIFF,EMF,PS,PDF,GIF,SVG,SVGZ,BMP
Document Info:
Title: New Zealand Hillshade
Author:
Comments: <DIV STYLE="text-align:Left;font-size:12pt"><P><SPAN>More information about this map can be found on:</SPAN></P><P><A href="https://www.arcgis.com/home/item.html?id=38c860f8dbd24820b2a59ccc9a3dabdb" STYLE="text-decoration:underline;"><SPAN>https://www.arcgis.com/home/item.html?id=38c860f8dbd24820b2a59ccc9a3dabdb</SPAN></A></P></DIV>
Subject:
Category:
Keywords:
AntialiasingMode: Fast
TextAntialiasingMode: Force
Supports Dynamic Layers: false
Resampling: true
MaxRecordCount: 2000
MaxImageHeight: 4096
MaxImageWidth: 4096
Supported Query Formats: JSON, geoJSON, PBF
Supports Query Data Elements: true
Min Scale: 0
Max Scale: 0
Supports Datum Transformation: true
Child Resources:
Info
Supported Operations:
Export Map
EstimateExportTilesSize
ExportTiles
Return Updates